BEGIN:VCALENDAR
VERSION:2.0
PRODID:-//Partnership for Southern Equity - ECPv5.0.2.1//NONSGML v1.0//EN
CALSCALE:GREGORIAN
METHOD:PUBLISH
X-WR-CALNAME:Partnership for Southern Equity
X-ORIGINAL-URL:https://psequity.org
X-WR-CALDESC:Events for Partnership for Southern Equity
BEGIN:VTIMEZONE
TZID:UTC
BEGIN:STANDARD
TZOFFSETFROM:+0000
TZOFFSETTO:+0000
TZNAME:UTC
DTSTART:20180101T000000
END:STANDARD
END:VTIMEZONE
BEGIN:VEVENT
DTSTART;TZID=UTC:20181114T170000
DTEND;TZID=UTC:20181114T170000
DTSTAMP:20210406T183850
CREATED:20191115T213950Z
LAST-MODIFIED:20191115T213950Z
UID:7241-1542214800-1542214800@psequity.org
SUMMARY:100% Equity Cities - Community Energy Equity Forum
DESCRIPTION:
URL:https://psequity.org/event/100-equity-cities-community-energy-equity-forum/
END:VEVENT
END:VCALENDAR