BEGIN:VCALENDAR
VERSION:2.0
PRODID:-//Partnership for Southern Equity - ECPv5.0.2.1//NONSGML v1.0//EN
CALSCALE:GREGORIAN
METHOD:PUBLISH
X-WR-CALNAME:Partnership for Southern Equity
X-ORIGINAL-URL:https://psequity.org
X-WR-CALDESC:Events for Partnership for Southern Equity
BEGIN:VTIMEZONE
TZID:America/New_York
BEGIN:DAYLIGHT
TZOFFSETFROM:-0500
TZOFFSETTO:-0400
TZNAME:EDT
DTSTART:20200308T070000
END:DAYLIGHT
BEGIN:STANDARD
TZOFFSETFROM:-0400
TZOFFSETTO:-0500
TZNAME:EST
DTSTART:20201101T060000
END:STANDARD
END:VTIMEZONE
BEGIN:VEVENT
DTSTART;VALUE=DATE:20200224
DTEND;VALUE=DATE:20200225
DTSTAMP:20210406T180847
CREATED:20200205T221012Z
LAST-MODIFIED:20200224T204148Z
UID:7444-1582502400-1582588799@psequity.org
SUMMARY:Nathaniel Smith Speaking @ 2020 Higher Education Climate Leadership Summit
DESCRIPTION:
URL:https://psequity.org/event/2020-higher-ed-climate-leadership-summit/
LOCATION:Atlanta\, GA\, Atlanta\, GA\, United States
CATEGORIES:Just Energy,Nathaniel Smith
END:VEVENT
END:VCALENDAR