BEGIN:VCALENDAR
VERSION:2.0
PRODID:-//Partnership for Southern Equity - ECPv5.0.2.1//NONSGML v1.0//EN
CALSCALE:GREGORIAN
METHOD:PUBLISH
X-WR-CALNAME:Partnership for Southern Equity
X-ORIGINAL-URL:https://psequity.org
X-WR-CALDESC:Events for Partnership for Southern Equity
BEGIN:VTIMEZONE
TZID:UTC
BEGIN:STANDARD
TZOFFSETFROM:+0000
TZOFFSETTO:+0000
TZNAME:UTC
DTSTART:20200101T000000
END:STANDARD
END:VTIMEZONE
BEGIN:VEVENT
DTSTART;TZID=UTC:20200310T000000
DTEND;TZID=UTC:20200310T000000
DTSTAMP:20210406T180839
CREATED:20200205T221015Z
LAST-MODIFIED:20200205T221824Z
UID:7448-1583798400-1583798400@psequity.org
SUMMARY:Nathaniel Smith Speaking @ 2020 NICRC Conference (New Partnerships and Strategies to Advance Equitable Growth)
DESCRIPTION:
URL:https://psequity.org/event/2020-nicrc-conference-new-partnerships-and-strategies-to-advance-equitable-growth/
CATEGORIES:Nathaniel Smith
END:VEVENT
END:VCALENDAR