BEGIN:VCALENDAR
VERSION:2.0
PRODID:-//Partnership for Southern Equity - ECPv5.0.2.1//NONSGML v1.0//EN
CALSCALE:GREGORIAN
METHOD:PUBLISH
X-WR-CALNAME:Partnership for Southern Equity
X-ORIGINAL-URL:https://psequity.org
X-WR-CALDESC:Events for Partnership for Southern Equity
BEGIN:VTIMEZONE
TZID:UTC
BEGIN:STANDARD
TZOFFSETFROM:+0000
TZOFFSETTO:+0000
TZNAME:UTC
DTSTART:20190101T000000
END:STANDARD
END:VTIMEZONE
BEGIN:VEVENT
DTSTART;TZID=UTC:20191205T180000
DTEND;TZID=UTC:20191205T193000
DTSTAMP:20210406T170809
CREATED:20191115T213945Z
LAST-MODIFIED:20191115T215115Z
UID:7233-1575568800-1575574200@psequity.org
SUMMARY:All Academy Graduate Mixer
DESCRIPTION:Join the Partnership for Southern Equity for an all Academy Graduate Mixer. This event is for graduates of the Just Energy Academy (2019)\, TransFormation Academy (Spring 2018 and Fall 2018)\, TransFormation Youth Academy (Summer 2019)\, Resident Leaders for Equity Cohort 1 (2018)\, and Resident Leaders for Equity Cohort 2 (2019). \n
URL:https://psequity.org/event/all-academy-graduate-mixer/
LOCATION:Negril Village Atlanta\, 30 North Avenue Northeast\, Atlanta\, GA\, 30308\, United States
ATTACH;FMTTYPE=image/jpeg:https://psequity.org/uploads/2019/11/https-cdn.evbuc_.com-images-76939633-279174217074-1-original.20191015-202443.jpeg
ORGANIZER;CN="Partnership%20for%20Southern%20Equity":MAILTO:info@psequity.org
END:VEVENT
END:VCALENDAR