BEGIN:VCALENDAR
VERSION:2.0
PRODID:-//Partnership for Southern Equity - ECPv5.0.2.1//NONSGML v1.0//EN
CALSCALE:GREGORIAN
METHOD:PUBLISH
X-WR-CALNAME:Partnership for Southern Equity
X-ORIGINAL-URL:https://psequity.org
X-WR-CALDESC:Events for Partnership for Southern Equity
BEGIN:VTIMEZONE
TZID:UTC
BEGIN:STANDARD
TZOFFSETFROM:+0000
TZOFFSETTO:+0000
TZNAME:UTC
DTSTART:20200101T000000
END:STANDARD
END:VTIMEZONE
BEGIN:VEVENT
DTSTART;TZID=UTC:20200320T000000
DTEND;TZID=UTC:20200321T000000
DTSTAMP:20210406T175742
CREATED:20200204T052355Z
LAST-MODIFIED:20200204T052355Z
UID:7384-1584662400-1584748800@psequity.org
SUMMARY:Atlanta Impact Experience
DESCRIPTION:
URL:https://psequity.org/event/atlanta-impact-experience/
END:VEVENT
END:VCALENDAR