BEGIN:VCALENDAR
VERSION:2.0
PRODID:-//Partnership for Southern Equity - ECPv5.0.2.1//NONSGML v1.0//EN
CALSCALE:GREGORIAN
METHOD:PUBLISH
X-WR-CALNAME:Partnership for Southern Equity
X-ORIGINAL-URL:https://psequity.org
X-WR-CALDESC:Events for Partnership for Southern Equity
BEGIN:VTIMEZONE
TZID:UTC
BEGIN:STANDARD
TZOFFSETFROM:+0000
TZOFFSETTO:+0000
TZNAME:UTC
DTSTART:20200101T000000
END:STANDARD
END:VTIMEZONE
BEGIN:VEVENT
DTSTART;TZID=UTC:20200307T110000
DTEND;TZID=UTC:20200307T120000
DTSTAMP:20210406T172310
CREATED:20200306T221348Z
LAST-MODIFIED:20200306T221348Z
UID:7540-1583578800-1583582400@psequity.org
SUMMARY:Dwayne Patterson Speaking @ Episcopal Diocese of Atlanta's Global Mission Commission Conference
DESCRIPTION:“Faithfully Responding to Climate Change” \n
URL:https://psequity.org/event/dwayne-patterson-speaking-episcopal-diocese-of-atlantas-global-mission-commission-conference/
LOCATION:All Saints Episcopal Church\, 634 West Peachtree Street NW\, Atlanta\, GA\, 30308\, United States
CATEGORIES:Just Energy
ORGANIZER;CN="Just%20Energy":MAILTO:info@psequity.org
END:VEVENT
END:VCALENDAR