BEGIN:VCALENDAR
VERSION:2.0
PRODID:-//Partnership for Southern Equity - ECPv5.0.2.1//NONSGML v1.0//EN
CALSCALE:GREGORIAN
METHOD:PUBLISH
X-WR-CALNAME:Partnership for Southern Equity
X-ORIGINAL-URL:https://psequity.org
X-WR-CALDESC:Events for Partnership for Southern Equity
BEGIN:VTIMEZONE
TZID:America/New_York
BEGIN:DAYLIGHT
TZOFFSETFROM:-0500
TZOFFSETTO:-0400
TZNAME:EDT
DTSTART:20200308T070000
END:DAYLIGHT
BEGIN:STANDARD
TZOFFSETFROM:-0400
TZOFFSETTO:-0500
TZNAME:EST
DTSTART:20201101T060000
END:STANDARD
END:VTIMEZONE
BEGIN:VEVENT
DTSTART;TZID=America/New_York:20200730T100000
DTEND;TZID=America/New_York:20200730T120000
DTSTAMP:20210406T170232
CREATED:20200722T205434Z
LAST-MODIFIED:20200722T205434Z
UID:7942-1596103200-1596110400@psequity.org
SUMMARY:Educational Equity: Investment Not Charity
DESCRIPTION:\nIn the “Educational Equity: Investment Not Charity” webinar\, Brittany Collins\, Dr. Stan Sonu\, and Dr. Robert A. Hahn will examine how the unequal distribution of resources has disproportionally affected the education of Black and Brown children. Our children don’t need charity. They need investments that ensure full access to an excellent education\, which can lead to a healthier life – a principle of #justhealth. \nHealth Equity: “The Urgency of Now” is a five-part webinar series that builds on the premise that “health equity is the assurance of an opportunity for all people to achieve optimal health.” This listening\, learning\, and advocacy session is designed to increase participants’ awareness and understanding of the “Vital Conditions” (aka -Social Determinants) that all people and communities need to achieve overall health and well-being. Our speakers will focus on the civil\, structural\, and racial barriers\, as well as potential solutions\, to improve educational outcomes – particularly for those communities most affected by inequities. Overall\, the webinar series is designed to educate\, inform\, influence\, and galvanize key stakeholders and decision-makers for needed action to advance equity in several key areas – health\, education\, economics\, and civic engagement.\n\n
URL:https://psequity.org/event/educational-equity-investment-not-charity/
LOCATION:Online Events
CATEGORIES:Just Health,Online Events
ATTACH;FMTTYPE=image/jpeg:https://psequity.org/uploads/2020/07/JH-Urgency-of-Now-Webinar-Series-2-v1-low-res.jpg
ORGANIZER;CN="Just%20Health":MAILTO:cmondesir@psequity.org
END:VEVENT
END:VCALENDAR