BEGIN:VCALENDAR
VERSION:2.0
PRODID:-//Partnership for Southern Equity - ECPv5.0.2.1//NONSGML v1.0//EN
CALSCALE:GREGORIAN
METHOD:PUBLISH
X-WR-CALNAME:Partnership for Southern Equity
X-ORIGINAL-URL:https://psequity.org
X-WR-CALDESC:Events for Partnership for Southern Equity
BEGIN:VTIMEZONE
TZID:UTC
BEGIN:STANDARD
TZOFFSETFROM:+0000
TZOFFSETTO:+0000
TZNAME:UTC
DTSTART:20190101T000000
END:STANDARD
END:VTIMEZONE
BEGIN:VEVENT
DTSTART;TZID=UTC:20191104T160000
DTEND;TZID=UTC:20191104T180000
DTSTAMP:20210406T174501
CREATED:20191105T012657Z
LAST-MODIFIED:20191105T013307Z
UID:7191-1572883200-1572890400@psequity.org
SUMMARY:#FIGHTTHEHIKE2
DESCRIPTION:Georgia Power has proposed to hike the mandatory monthly fee from $10 to $17.95 per month!! You will be forced to pay this fee no matter how little energy you use. \nJoin us to “FIGHT THE HIKE”!!! This is a rain or shine event. \nWe need moms\, dads\, senior citizens\, teachers\, pastors\, and all community leaders to join us in this fight! \n
URL:https://psequity.org/event/fightthehike2/
LOCATION:Georgia Public Service Commission\, 244 Washington Street SW\, Atlanta\, GA\, 30303\, United States
ORGANIZER;CN="Just%20Energy":MAILTO:info@psequity.org
END:VEVENT
END:VCALENDAR