BEGIN:VCALENDAR
VERSION:2.0
PRODID:-//Partnership for Southern Equity - ECPv5.0.2.1//NONSGML v1.0//EN
CALSCALE:GREGORIAN
METHOD:PUBLISH
X-WR-CALNAME:Partnership for Southern Equity
X-ORIGINAL-URL:https://psequity.org
X-WR-CALDESC:Events for Partnership for Southern Equity
BEGIN:VTIMEZONE
TZID:UTC
BEGIN:STANDARD
TZOFFSETFROM:+0000
TZOFFSETTO:+0000
TZNAME:UTC
DTSTART:20200101T000000
END:STANDARD
END:VTIMEZONE
BEGIN:VEVENT
DTSTART;TZID=UTC:20200416T000000
DTEND;TZID=UTC:20200416T000000
DTSTAMP:20210406T174142
CREATED:20200205T221019Z
LAST-MODIFIED:20200406T223540Z
UID:7453-1586995200-1586995200@psequity.org
SUMMARY:Nathaniel Smith Speaking @ Georgia Health Policy Center
DESCRIPTION:
URL:https://psequity.org/event/ga-health-policy-center/
CATEGORIES:Just Health,Nathaniel Smith
END:VEVENT
END:VCALENDAR