BEGIN:VCALENDAR
VERSION:2.0
PRODID:-//Partnership for Southern Equity - ECPv5.0.2.1//NONSGML v1.0//EN
CALSCALE:GREGORIAN
METHOD:PUBLISH
X-WR-CALNAME:Partnership for Southern Equity
X-ORIGINAL-URL:https://psequity.org
X-WR-CALDESC:Events for Partnership for Southern Equity
BEGIN:VTIMEZONE
TZID:UTC
BEGIN:STANDARD
TZOFFSETFROM:+0000
TZOFFSETTO:+0000
TZNAME:UTC
DTSTART:20190101T000000
END:STANDARD
END:VTIMEZONE
BEGIN:VEVENT
DTSTART;VALUE=DATE:20191125
DTEND;VALUE=DATE:20191126
DTSTAMP:20210406T174504
CREATED:20191115T215428Z
LAST-MODIFIED:20191115T215428Z
UID:7260-1574640000-1574726399@psequity.org
SUMMARY:Just Energy Academy 2020 Deadline
DESCRIPTION:Applications are now open for the second cohort of Just Energy Academy (JEA). This seven-month leadership development program was created to educate the next generation of equity leaders on energy equity and climate justice issues. JEA is a competitive program for youth and adults who aspire to be energy equity leaders in their communities.\nDeadline to apply is Monday\, November 25\, 2019. \n
URL:https://psequity.org/event/just-energy-academy-2020-deadline/
ATTACH;FMTTYPE=image/png:https://psequity.org/uploads/2019/11/a87c0dc9-5fcd-48ff-aa5d-cff92b15957c.png
END:VEVENT
END:VCALENDAR