BEGIN:VCALENDAR
VERSION:2.0
PRODID:-//Partnership for Southern Equity - ECPv5.0.2.1//NONSGML v1.0//EN
CALSCALE:GREGORIAN
METHOD:PUBLISH
X-WR-CALNAME:Partnership for Southern Equity
X-ORIGINAL-URL:https://psequity.org
X-WR-CALDESC:Events for Partnership for Southern Equity
BEGIN:VTIMEZONE
TZID:UTC
BEGIN:STANDARD
TZOFFSETFROM:+0000
TZOFFSETTO:+0000
TZNAME:UTC
DTSTART:20200101T000000
END:STANDARD
END:VTIMEZONE
BEGIN:VEVENT
DTSTART;TZID=UTC:20200120T080000
DTEND;TZID=UTC:20200120T170000
DTSTAMP:20210406T172322
CREATED:20200120T092657Z
LAST-MODIFIED:20200120T092657Z
UID:7338-1579507200-1579539600@psequity.org
SUMMARY:#MLK91
DESCRIPTION:We need these words now more than ever. This is not a day off for us. Most of our staff are celebrating the life and legacy of Rev. Dr. Martin Luther King\, Jr. throughout the community. Please join us at the following events: \nMLK Day 5K Drum Run\nWhen: Jan. 20\, line up begins at 8:45 a.m. \nWhere: Piedmont Park\, 400 Park Drive NE\, Atlanta \nWhat: This one-of-a-kind 5K commemorates Martin Luther King Day with a 3.1-mile drumline along the course. It costs $35 to register. \nMLK Jr. Day of Service 2020 – West Atlanta Watershed Alliance\nWhen: Jan. 20\, 10 a.m. – 1 p.m. \nWhere: Outdoor Activity Center\, 1442 Richland Rd SW\, Atlanta\, GA 30310 \nWhat: Join us in celebrating the life and legacy of Dr. Martin Luther King\, Jr.! Help the West Atlanta Watershed Alliance to restore and maintain habitat at the Outdoor Activity Center\, a 26-acre urban forest\, in southwest Atlanta and the Hardnett Community Garden. Please wear warm clothing that you do not mind getting dirty. Children are welcome but must be supervised at all times. Work gloves\, tools\, snacks\, and warm drinks will be provided. Feel free to pack a light lunch! Don’t forget to bring your refillable water bottle and a reusable hot cup. This event will happen in all types of weather! Rain\, sleet\, snow or sunshine won’t stop us. Thank you in advance! \nDr. Martin Luther King Jr. Holiday Commemorative March/Rally\nWhen: Jan. 20\, 1:45 p.m. to 4:30 p.m. \nWhere: Baker Street NW & Peachtree Street NE\, Atlanta \nWhat: The MLK March Committee and Africa African American Renaissance Festival is bringing this procession to the streets of downtown Atlanta. The commemorative march will start on the intersection of Peachtree Street and Baker Street and end in front of The King Center. \n
URL:https://psequity.org/event/mlk91/
ATTACH;FMTTYPE=image/png:https://psequity.org/uploads/2020/01/MLK-Day-2020.png
END:VEVENT
END:VCALENDAR