BEGIN:VCALENDAR
VERSION:2.0
PRODID:-//Partnership for Southern Equity - ECPv5.0.2.1//NONSGML v1.0//EN
CALSCALE:GREGORIAN
METHOD:PUBLISH
X-WR-CALNAME:Partnership for Southern Equity
X-ORIGINAL-URL:https://psequity.org
X-WR-CALDESC:Events for Partnership for Southern Equity
BEGIN:VTIMEZONE
TZID:America/New_York
BEGIN:DAYLIGHT
TZOFFSETFROM:-0500
TZOFFSETTO:-0400
TZNAME:EDT
DTSTART:20200308T070000
END:DAYLIGHT
BEGIN:STANDARD
TZOFFSETFROM:-0400
TZOFFSETTO:-0500
TZNAME:EST
DTSTART:20201101T060000
END:STANDARD
END:VTIMEZONE
BEGIN:VEVENT
DTSTART;TZID=America/New_York:20201208T153000
DTEND;TZID=America/New_York:20201208T163000
DTSTAMP:20210406T170048
CREATED:20201019T163424Z
LAST-MODIFIED:20201019T163424Z
UID:8217-1607441400-1607445000@psequity.org
SUMMARY:Nathaniel Smith Speaking @ American Association of Blacks in Energy Policy Summit 2020
DESCRIPTION:The American Association of Blacks in Energy (AABE or Association) is pleased to invite you to participate as a panelist\, in AABE’s upcoming Policy Summit (virtual)\, entitled\, Promoting and Advancing Communities of Color Through Inclusive energy Policy. The panel is entitled The Role of Energy Efficiency in Energy Policy and is scheduled for Tuesday\, December 8\, 3:30 – 4:15 PM ET. The panel will be led by our invited moderator Cooper Martin\, Director of Sustainability and Solutions for National League of Cities\, and will consist of 4 panelists in total. \n
URL:https://psequity.org/event/nathaniel-smith-speaking-american-association-of-blacks-in-energy-policy-summit-2020/
LOCATION:Online Events
CATEGORIES:Nathaniel Smith,Online Events
END:VEVENT
END:VCALENDAR