BEGIN:VCALENDAR
VERSION:2.0
PRODID:-//Partnership for Southern Equity - ECPv5.0.2.1//NONSGML v1.0//EN
CALSCALE:GREGORIAN
METHOD:PUBLISH
X-WR-CALNAME:Partnership for Southern Equity
X-ORIGINAL-URL:https://psequity.org
X-WR-CALDESC:Events for Partnership for Southern Equity
BEGIN:VTIMEZONE
TZID:America/New_York
BEGIN:DAYLIGHT
TZOFFSETFROM:-0500
TZOFFSETTO:-0400
TZNAME:EDT
DTSTART:20200308T070000
END:DAYLIGHT
BEGIN:STANDARD
TZOFFSETFROM:-0400
TZOFFSETTO:-0500
TZNAME:EST
DTSTART:20201101T060000
END:STANDARD
END:VTIMEZONE
BEGIN:VEVENT
DTSTART;TZID=America/New_York:20201029T180000
DTEND;TZID=America/New_York:20201029T190000
DTSTAMP:20210406T165953
CREATED:20201017T004903Z
LAST-MODIFIED:20201017T005112Z
UID:8210-1603994400-1603998000@psequity.org
SUMMARY:Nathaniel Smith Speaking @ Center for Civic Innovation
DESCRIPTION:CCI Community Conversations focus on some of the incredible civic leaders in Atlanta who are inspiring people to take action\, investing in homegrown solutions\, and advocating for policy. They are #dointhework. \n
URL:https://psequity.org/event/nathaniel-smith-speaking-center-for-civic-innovation/
LOCATION:Online Events
CATEGORIES:Nathaniel Smith,Online Events
ATTACH;FMTTYPE=image/png:https://psequity.org/uploads/2020/10/e13cea46-10c7-4e96-87f7-2c8694e8982d.png
END:VEVENT
END:VCALENDAR