BEGIN:VCALENDAR
VERSION:2.0
PRODID:-//Partnership for Southern Equity - ECPv5.0.2.1//NONSGML v1.0//EN
CALSCALE:GREGORIAN
METHOD:PUBLISH
X-WR-CALNAME:Partnership for Southern Equity
X-ORIGINAL-URL:https://psequity.org
X-WR-CALDESC:Events for Partnership for Southern Equity
BEGIN:VTIMEZONE
TZID:America/New_York
BEGIN:DAYLIGHT
TZOFFSETFROM:-0500
TZOFFSETTO:-0400
TZNAME:EDT
DTSTART:20200308T070000
END:DAYLIGHT
BEGIN:STANDARD
TZOFFSETFROM:-0400
TZOFFSETTO:-0500
TZNAME:EST
DTSTART:20201101T060000
END:STANDARD
END:VTIMEZONE
BEGIN:VEVENT
DTSTART;TZID=America/New_York:20200413T113000
DTEND;TZID=America/New_York:20200413T130000
DTSTAMP:20210406T175032
CREATED:20200406T224203Z
LAST-MODIFIED:20200406T224203Z
UID:7601-1586777400-1586782800@psequity.org
SUMMARY:Nathaniel Smith Speaking @ MAX LEADERSHIP NETWORK
DESCRIPTION:The MAX Leadership Network is comprised of workforce leaders who convene regularly to strengthen our collective capacity as workforce developers to meet the needs that employers have for a ready workforce. Members of this network come together to jointly do the following: \n\nLearn more about who is doing what\, where\, and for whom\nExplore common issues and opportunities\, and share ideas for building solutions\nMake new connections and catalyze partnerships\nKeep each other updated and informed on ways we can help each other\\n\nMembers of the Leadership Network represent nonprofit CBOs\, technical colleges\, state agencies\, local workforce boards\, chambers of commerce\, intermediaries\, and other key partners in workforce.  To learn more about MAX\, please visit www.metroatlantaexchange.org. \n
URL:https://psequity.org/event/nathaniel-smith-speaking-max-leadership-network/
LOCATION:Atlanta\, GA\, Atlanta\, GA\, United States
CATEGORIES:Just Opportunity,Nathaniel Smith
ORGANIZER;CN="Partnership%20for%20Southern%20Equity":MAILTO:info@psequity.org
END:VEVENT
END:VCALENDAR