BEGIN:VCALENDAR
VERSION:2.0
PRODID:-//Partnership for Southern Equity - ECPv5.0.2.1//NONSGML v1.0//EN
CALSCALE:GREGORIAN
METHOD:PUBLISH
X-WR-CALNAME:Partnership for Southern Equity
X-ORIGINAL-URL:https://psequity.org
X-WR-CALDESC:Events for Partnership for Southern Equity
BEGIN:VTIMEZONE
TZID:UTC
BEGIN:STANDARD
TZOFFSETFROM:+0000
TZOFFSETTO:+0000
TZNAME:UTC
DTSTART:20190101T000000
END:STANDARD
END:VTIMEZONE
BEGIN:VEVENT
DTSTART;TZID=UTC:20190330T120000
DTEND;TZID=UTC:20190330T120000
DTSTAMP:20210406T183840
CREATED:20191115T213954Z
LAST-MODIFIED:20191115T213954Z
UID:7243-1553947200-1553947200@psequity.org
SUMMARY:Organizing for Opportunity (Central Georgia)
DESCRIPTION:
URL:https://psequity.org/event/organizing-for-opportunity-central-georgia/
END:VEVENT
END:VCALENDAR