BEGIN:VCALENDAR
VERSION:2.0
PRODID:-//Partnership for Southern Equity - ECPv5.0.2.1//NONSGML v1.0//EN
CALSCALE:GREGORIAN
METHOD:PUBLISH
X-WR-CALNAME:Partnership for Southern Equity
X-ORIGINAL-URL:https://psequity.org
X-WR-CALDESC:Events for Partnership for Southern Equity
BEGIN:VTIMEZONE
TZID:UTC
BEGIN:STANDARD
TZOFFSETFROM:+0000
TZOFFSETTO:+0000
TZNAME:UTC
DTSTART:20200101T000000
END:STANDARD
END:VTIMEZONE
BEGIN:VEVENT
DTSTART;VALUE=DATE:20200212
DTEND;VALUE=DATE:20200214
DTSTAMP:20210406T180810
CREATED:20200205T221008Z
LAST-MODIFIED:20200205T224237Z
UID:7441-1581465600-1581638399@psequity.org
SUMMARY:Partnership for Resilient Communities
DESCRIPTION:
URL:https://psequity.org/event/partnership-for-resilient-communities/
LOCATION:Atlanta\, GA\, Atlanta\, GA\, United States
CATEGORIES:Just Energy,Just Growth,Just Health,Just Opportunity,Nathaniel Smith,Special Event
ORGANIZER;CN="Partnership%20for%20Southern%20Equity":MAILTO:info@psequity.org
END:VEVENT
END:VCALENDAR