BEGIN:VCALENDAR
VERSION:2.0
PRODID:-//Partnership for Southern Equity - ECPv5.0.2.1//NONSGML v1.0//EN
CALSCALE:GREGORIAN
METHOD:PUBLISH
X-WR-CALNAME:Partnership for Southern Equity
X-ORIGINAL-URL:https://psequity.org
X-WR-CALDESC:Events for Partnership for Southern Equity
BEGIN:VTIMEZONE
TZID:UTC
BEGIN:STANDARD
TZOFFSETFROM:+0000
TZOFFSETTO:+0000
TZNAME:UTC
DTSTART:20200101T000000
END:STANDARD
END:VTIMEZONE
BEGIN:VEVENT
DTSTART;TZID=UTC:20200318T000000
DTEND;TZID=UTC:20200318T000000
DTSTAMP:20210406T181214
CREATED:20200205T221016Z
LAST-MODIFIED:20200205T224549Z
UID:7449-1584489600-1584489600@psequity.org
SUMMARY:Nathaniel Smith Speaking @ Schmidt Family Foundation's 11th Hour Project Dinner
DESCRIPTION:
URL:https://psequity.org/event/schmidt-family-foundation-11th-hour-project/
CATEGORIES:Nathaniel Smith
END:VEVENT
END:VCALENDAR