BEGIN:VCALENDAR
VERSION:2.0
PRODID:-//Partnership for Southern Equity - ECPv5.0.2.1//NONSGML v1.0//EN
CALSCALE:GREGORIAN
METHOD:PUBLISH
X-WR-CALNAME:Partnership for Southern Equity
X-ORIGINAL-URL:https://psequity.org
X-WR-CALDESC:Events for Partnership for Southern Equity
BEGIN:VTIMEZONE
TZID:America/New_York
BEGIN:DAYLIGHT
TZOFFSETFROM:-0500
TZOFFSETTO:-0400
TZNAME:EDT
DTSTART:20200308T070000
END:DAYLIGHT
BEGIN:STANDARD
TZOFFSETFROM:-0400
TZOFFSETTO:-0500
TZNAME:EST
DTSTART:20201101T060000
END:STANDARD
END:VTIMEZONE
BEGIN:VEVENT
DTSTART;VALUE=DATE:20200330
DTEND;VALUE=DATE:20200401
DTSTAMP:20210406T193206
CREATED:20200205T221016Z
LAST-MODIFIED:20200205T230414Z
UID:7450-1585526400-1585699199@psequity.org
SUMMARY:Nathaniel Smith Speaking @ Connections 2020 Conference - Healthcare Georgia Foundation
DESCRIPTION:
URL:https://psequity.org/event/connections-2020-conference/
LOCATION:Westin Buckhead\, 3391 Peachtree Rd NE\, Atlanta\, GA\, United States
CATEGORIES:Just Health,Nathaniel Smith
ORGANIZER;CN="Just%20Health":MAILTO:cmondesir@psequity.org
END:VEVENT
END:VCALENDAR