BEGIN:VCALENDAR
VERSION:2.0
PRODID:-//Partnership for Southern Equity - ECPv5.0.2.1//NONSGML v1.0//EN
CALSCALE:GREGORIAN
METHOD:PUBLISH
X-WR-CALNAME:Partnership for Southern Equity
X-ORIGINAL-URL:https://psequity.org
X-WR-CALDESC:Events for Partnership for Southern Equity
BEGIN:VTIMEZONE
TZID:UTC
BEGIN:STANDARD
TZOFFSETFROM:+0000
TZOFFSETTO:+0000
TZNAME:UTC
DTSTART:20200101T000000
END:STANDARD
END:VTIMEZONE
BEGIN:VEVENT
DTSTART;TZID=UTC:20200407T170000
DTEND;TZID=UTC:20200407T183000
DTSTAMP:20210406T193201
CREATED:20200407T001929Z
LAST-MODIFIED:20200407T002110Z
UID:7603-1586278800-1586284200@psequity.org
SUMMARY:Nathaniel Smith Speaking @ Power Dialogues: Solve Climate by 2030
DESCRIPTION:The Climate and Energy Policy Lab is participating in a nationwide series of Power Dialogs on April 7th\, 2020. The project will engage more than 100\,000 students in critical conversations about Power as clean energy\, but also about Power as engaged citizen action. The state-wide dialog will spotlight how transforming energy and transportation in the 2020’s will get us on the path to climate stabilization. \n
URL:https://psequity.org/event/nathaniel-smith-speaking-power-dialogues-solve-climate-by-2030/
LOCATION:Atlanta\, GA\, Atlanta\, GA\, United States
CATEGORIES:Just Energy,Nathaniel Smith
ATTACH;FMTTYPE=image/png:https://psequity.org/uploads/2020/04/Screen-Shot-2020-03-23-at-9.28.15-PM.png
ORGANIZER;CN="Just%20Energy":MAILTO:info@psequity.org
END:VEVENT
END:VCALENDAR