BEGIN:VCALENDAR
VERSION:2.0
PRODID:-//Partnership for Southern Equity - ECPv5.0.2.1//NONSGML v1.0//EN
CALSCALE:GREGORIAN
METHOD:PUBLISH
X-WR-CALNAME:Partnership for Southern Equity
X-ORIGINAL-URL:https://psequity.org
X-WR-CALDESC:Events for Partnership for Southern Equity
BEGIN:VTIMEZONE
TZID:UTC
BEGIN:STANDARD
TZOFFSETFROM:+0000
TZOFFSETTO:+0000
TZNAME:UTC
DTSTART:20200101T000000
END:STANDARD
END:VTIMEZONE
BEGIN:VEVENT
DTSTART;TZID=UTC:20200416T000000
DTEND;TZID=UTC:20200418T000000
DTSTAMP:20210406T193250
CREATED:20200204T052358Z
LAST-MODIFIED:20200406T223423Z
UID:7388-1586995200-1587168000@psequity.org
SUMMARY:Southeast EJ Conference
DESCRIPTION:
URL:https://psequity.org/event/southease-ej-conference/
CATEGORIES:Just Energy
END:VEVENT
BEGIN:VEVENT
DTSTART;TZID=UTC:20200418T000000
DTEND;TZID=UTC:20200418T000000
DTSTAMP:20210406T193250
CREATED:20200204T052358Z
LAST-MODIFIED:20200406T223415Z
UID:7389-1587168000-1587168000@psequity.org
SUMMARY:Just Energy Academy in Savannah
DESCRIPTION:
URL:https://psequity.org/event/just-energy-academy-in-savannah/
CATEGORIES:Just Energy
END:VEVENT
END:VCALENDAR