BEGIN:VCALENDAR
VERSION:2.0
PRODID:-//Partnership for Southern Equity - ECPv5.0.2.1//NONSGML v1.0//EN
CALSCALE:GREGORIAN
METHOD:PUBLISH
X-WR-CALNAME:Partnership for Southern Equity
X-ORIGINAL-URL:https://psequity.org
X-WR-CALDESC:Events for Partnership for Southern Equity
BEGIN:VTIMEZONE
TZID:UTC
BEGIN:STANDARD
TZOFFSETFROM:+0000
TZOFFSETTO:+0000
TZNAME:UTC
DTSTART:20200101T000000
END:STANDARD
END:VTIMEZONE
BEGIN:VEVENT
DTSTART;TZID=UTC:20200422T000000
DTEND;TZID=UTC:20200425T000000
DTSTAMP:20210406T193254
CREATED:20200204T052359Z
LAST-MODIFIED:20200406T223404Z
UID:7390-1587513600-1587772800@psequity.org
SUMMARY:National EJ Conference and Training Program
DESCRIPTION:
URL:https://psequity.org/event/national-ej-conference-and-training-program/
LOCATION:GA
CATEGORIES:Just Energy
END:VEVENT
BEGIN:VEVENT
DTSTART;TZID=UTC:20200422T000000
DTEND;TZID=UTC:20200422T000000
DTSTAMP:20210406T193254
CREATED:20200204T052359Z
LAST-MODIFIED:20200204T052359Z
UID:7391-1587513600-1587513600@psequity.org
SUMMARY:Earth Day/Admin Day
DESCRIPTION:
URL:https://psequity.org/event/earth-day-admin-day/
LOCATION:GA
END:VEVENT
BEGIN:VEVENT
DTSTART;TZID=UTC:20200422T190000
DTEND;TZID=UTC:20200422T210000
DTSTAMP:20210406T193254
CREATED:20200421T011318Z
LAST-MODIFIED:20200423T053522Z
UID:7614-1587582000-1587589200@psequity.org
SUMMARY:Earth Day Town Hall
DESCRIPTION:The Partnership for Southern Equity does NOT endorse any political candidate. Our candidate is equity.\n\n \n\n \nEarth Day Town Hall: The Link Between Climate Change and Pandemics \nPosted by Teresa Tomlinson on Wednesday\, April 22\, 2020 \n\n
URL:https://psequity.org/event/earth-day-town-hall/
LOCATION:Atlanta\, GA\, Atlanta\, GA\, United States
CATEGORIES:Just Energy,Special Event
ATTACH;FMTTYPE=image/png:https://psequity.org/uploads/2020/04/Copy-of-Teresa-Tele-Town-Hall-8.png
ORGANIZER;CN="Just%20Energy":MAILTO:info@psequity.org
END:VEVENT
END:VCALENDAR