BEGIN:VCALENDAR
VERSION:2.0
PRODID:-//Partnership for Southern Equity - ECPv5.0.2.1//NONSGML v1.0//EN
CALSCALE:GREGORIAN
METHOD:PUBLISH
X-WR-CALNAME:Partnership for Southern Equity
X-ORIGINAL-URL:https://psequity.org
X-WR-CALDESC:Events for Partnership for Southern Equity
BEGIN:VTIMEZONE
TZID:UTC
BEGIN:STANDARD
TZOFFSETFROM:+0000
TZOFFSETTO:+0000
TZNAME:UTC
DTSTART:20200101T000000
END:STANDARD
END:VTIMEZONE
BEGIN:VEVENT
DTSTART;TZID=UTC:20200422T000000
DTEND;TZID=UTC:20200425T000000
DTSTAMP:20210406T193252
CREATED:20200204T052359Z
LAST-MODIFIED:20200406T223404Z
UID:7390-1587513600-1587772800@psequity.org
SUMMARY:National EJ Conference and Training Program
DESCRIPTION:
URL:https://psequity.org/event/national-ej-conference-and-training-program/
CATEGORIES:Just Energy
END:VEVENT
END:VCALENDAR