BEGIN:VCALENDAR
VERSION:2.0
PRODID:-//Partnership for Southern Equity - ECPv5.0.2.1//NONSGML v1.0//EN
CALSCALE:GREGORIAN
METHOD:PUBLISH
X-WR-CALNAME:Partnership for Southern Equity
X-ORIGINAL-URL:https://psequity.org
X-WR-CALDESC:Events for Partnership for Southern Equity
BEGIN:VTIMEZONE
TZID:UTC
BEGIN:STANDARD
TZOFFSETFROM:+0000
TZOFFSETTO:+0000
TZNAME:UTC
DTSTART:20200101T000000
END:STANDARD
END:VTIMEZONE
BEGIN:VEVENT
DTSTART;TZID=UTC:20200601T000000
DTEND;TZID=UTC:20200630T000000
DTSTAMP:20210406T191024
CREATED:20200204T052402Z
LAST-MODIFIED:20200204T052402Z
UID:7395-1590969600-1593475200@psequity.org
SUMMARY:Pride Month
DESCRIPTION:
URL:https://psequity.org/event/pride-month/
END:VEVENT
END:VCALENDAR