BEGIN:VCALENDAR
VERSION:2.0
PRODID:-//Partnership for Southern Equity - ECPv5.0.2.1//NONSGML v1.0//EN
CALSCALE:GREGORIAN
METHOD:PUBLISH
X-WR-CALNAME:Partnership for Southern Equity
X-ORIGINAL-URL:https://psequity.org
X-WR-CALDESC:Events for Partnership for Southern Equity
BEGIN:VTIMEZONE
TZID:America/New_York
BEGIN:DAYLIGHT
TZOFFSETFROM:-0500
TZOFFSETTO:-0400
TZNAME:EDT
DTSTART:20200308T070000
END:DAYLIGHT
BEGIN:STANDARD
TZOFFSETFROM:-0400
TZOFFSETTO:-0500
TZNAME:EST
DTSTART:20201101T060000
END:STANDARD
END:VTIMEZONE
BEGIN:VEVENT
DTSTART;TZID=America/New_York:20200728T183000
DTEND;TZID=America/New_York:20200728T203000
DTSTAMP:20210406T185008
CREATED:20200721T043626Z
LAST-MODIFIED:20200728T232031Z
UID:7925-1595961000-1595968200@psequity.org
SUMMARY:Social Justice Screenings: "Right to Harm"
DESCRIPTION:\n\nConcentrated Animal Feeding Ops. – CAFOs – produce millions of gallons of untreated waste\, destroying the lives of neighbors who happen to be people of color. Join us Tuesday\, July 28\, 6:30 p.m. for “Right to Harm” to see how these citizens band together to demand justice. \n\n \n\n\n
URL:https://psequity.org/event/social-justice-screenings-right-to-harm/
LOCATION:Online Events
CATEGORIES:Just Energy,Just Growth,Just Health,Just Opportunity,Online Events,Special Event
ATTACH;FMTTYPE=image/jpeg:https://psequity.org/uploads/2020/07/https-_cdn.evbuc_.com_images_106578966_323338730651_1_original.20200720-200453.jpeg
ORGANIZER;CN="Partnership%20for%20Southern%20Equity":MAILTO:info@psequity.org
END:VEVENT
END:VCALENDAR