BEGIN:VCALENDAR
VERSION:2.0
PRODID:-//Partnership for Southern Equity - ECPv5.0.2.1//NONSGML v1.0//EN
CALSCALE:GREGORIAN
METHOD:PUBLISH
X-WR-CALNAME:Partnership for Southern Equity
X-ORIGINAL-URL:https://psequity.org
X-WR-CALDESC:Events for Partnership for Southern Equity
BEGIN:VTIMEZONE
TZID:America/New_York
BEGIN:DAYLIGHT
TZOFFSETFROM:-0500
TZOFFSETTO:-0400
TZNAME:EDT
DTSTART:20200308T070000
END:DAYLIGHT
BEGIN:STANDARD
TZOFFSETFROM:-0400
TZOFFSETTO:-0500
TZNAME:EST
DTSTART:20201101T060000
END:STANDARD
END:VTIMEZONE
BEGIN:VEVENT
DTSTART;TZID=America/New_York:20200729T133000
DTEND;TZID=America/New_York:20200729T150000
DTSTAMP:20210406T185023
CREATED:20200721T044423Z
LAST-MODIFIED:20200721T044932Z
UID:7928-1596029400-1596034800@psequity.org
SUMMARY:Nathaniel Smith Speaking @ Greening Youth Foundation
DESCRIPTION:On behalf of the Greening Youth Foundation and the National Park Service\, Nathaniel Smith is invited to speak at the Historically Black Colleges and University Internship program’s Career and Leadership Workshop. The goal of this session is for panelists to share their academic and career experiences and/or achievements\, and discuss tips for seeking careers in conservation through NGOs\, private organizations\, and federal agencies. \n
URL:https://psequity.org/event/nathaniel-smith-speaking-greening-youth-foundation/
LOCATION:Online Events
CATEGORIES:Nathaniel Smith,Online Events
END:VEVENT
END:VCALENDAR