BEGIN:VCALENDAR
VERSION:2.0
PRODID:-//Partnership for Southern Equity - ECPv5.0.2.1//NONSGML v1.0//EN
CALSCALE:GREGORIAN
METHOD:PUBLISH
X-WR-CALNAME:Partnership for Southern Equity
X-ORIGINAL-URL:https://psequity.org
X-WR-CALDESC:Events for Partnership for Southern Equity
BEGIN:VTIMEZONE
TZID:UTC
BEGIN:STANDARD
TZOFFSETFROM:+0000
TZOFFSETTO:+0000
TZNAME:UTC
DTSTART:20200101T000000
END:STANDARD
TZID:America/New_York
BEGIN:DAYLIGHT
TZOFFSETFROM:-0500
TZOFFSETTO:-0400
TZNAME:EDT
DTSTART:20200308T070000
END:DAYLIGHT
BEGIN:STANDARD
TZOFFSETFROM:-0400
TZOFFSETTO:-0500
TZNAME:EST
DTSTART:20201101T060000
END:STANDARD
END:VTIMEZONE
BEGIN:VEVENT
DTSTART;TZID=UTC:20200915T000000
DTEND;TZID=UTC:20201015T000000
DTSTAMP:20210406T184224
CREATED:20200204T052405Z
LAST-MODIFIED:20200204T052405Z
UID:7400-1600128000-1602720000@psequity.org
SUMMARY:Hispanic Heritage Month
DESCRIPTION:
URL:https://psequity.org/event/hispanic-heritage-month/
END:VEVENT
BEGIN:VEVENT
DTSTART;TZID=UTC:20200923T000000
DTEND;TZID=UTC:20200925T000000
DTSTAMP:20210406T184224
CREATED:20200204T052406Z
LAST-MODIFIED:20200204T052406Z
UID:7402-1600819200-1600992000@psequity.org
SUMMARY:Communications Network 2020
DESCRIPTION:
URL:https://psequity.org/event/communications-network-2020/
END:VEVENT
BEGIN:VEVENT
DTSTART;TZID=America/New_York:20200924T130000
DTEND;TZID=America/New_York:20200924T141500
DTSTAMP:20210406T184224
CREATED:20200728T225137Z
LAST-MODIFIED:20200728T225138Z
UID:7952-1600952400-1600956900@psequity.org
SUMMARY:Nathaniel Smith Speaking @ Changemakers: USGBC's Summer Equity Salon
DESCRIPTION:\n\n\n\nIn this Changemakers series\, join Nathaniel Smith from Partnership of Southern Equity for an intimate\, salon-style conversation.\n\n\n\n\n\n\nAbout this Event\n\n\nBuilding upon his session at USGBC’s inaugural Equity Summit in May 2020\, Nathaniel Smith\, Founder & Chief Equity Officer for Partnership for Southern Equity joins us for this salon discussion in the Changemakers summer series. \nhttps://www.eventbrite.com/e/changemakers-usgbcs-summer-equity-salon-with-nathaniel-smith-tickets-111950547100 \n\n\n\n\n
URL:https://psequity.org/event/nathaniel-smith-speaking-changemakers-usgbcs-summer-equity-salon/
LOCATION:Online Events
CATEGORIES:Nathaniel Smith,Online Events
ATTACH;FMTTYPE=image/jpeg:https://psequity.org/uploads/2020/07/https-_cdn.evbuc_.com_images_107118216_452419806174_1_original.20200727-211437.jpeg
END:VEVENT
END:VCALENDAR