BEGIN:VCALENDAR
VERSION:2.0
PRODID:-//Partnership for Southern Equity - ECPv5.0.2.1//NONSGML v1.0//EN
CALSCALE:GREGORIAN
METHOD:PUBLISH
X-WR-CALNAME:Partnership for Southern Equity
X-ORIGINAL-URL:https://psequity.org
X-WR-CALDESC:Events for Partnership for Southern Equity
BEGIN:VTIMEZONE
TZID:America/New_York
BEGIN:DAYLIGHT
TZOFFSETFROM:-0500
TZOFFSETTO:-0400
TZNAME:EDT
DTSTART:20200308T070000
END:DAYLIGHT
BEGIN:STANDARD
TZOFFSETFROM:-0400
TZOFFSETTO:-0500
TZNAME:EST
DTSTART:20201101T060000
END:STANDARD
END:VTIMEZONE
BEGIN:VEVENT
DTSTART;TZID=America/New_York:20201020T143000
DTEND;TZID=America/New_York:20201020T160000
DTSTAMP:20210406T183236
CREATED:20201016T230159Z
LAST-MODIFIED:20201016T230159Z
UID:8193-1603204200-1603209600@psequity.org
SUMMARY:Atlanta Regional Commission Webinar: Pursuing Equity in the American South
DESCRIPTION:The Partnership for Southern Equity has worked for ten years to lead and facilitate conversations and advocacy around issues related to equity in the American South and beyond. This webinar will highlight the organization’s work and strategies aimed at centering conversations around equity as well as focusing civic leadership on ways Metro Atlanta can grow to be more equitable. \n
URL:https://psequity.org/event/atlanta-regional-commission-webinar-pursuing-equity-in-the-american-south/
LOCATION:Online Events
CATEGORIES:Just Energy,Just Growth,Just Opportunity,Nathaniel Smith,Online Events
ATTACH;FMTTYPE=image/jpeg:https://psequity.org/uploads/2020/10/FB_Persuing-Equity.jpg
END:VEVENT
END:VCALENDAR