BEGIN:VCALENDAR
VERSION:2.0
PRODID:-//Partnership for Southern Equity - ECPv5.0.2.1//NONSGML v1.0//EN
CALSCALE:GREGORIAN
METHOD:PUBLISH
X-WR-CALNAME:Partnership for Southern Equity
X-ORIGINAL-URL:https://psequity.org
X-WR-CALDESC:Events for Partnership for Southern Equity
BEGIN:VTIMEZONE
TZID:America/New_York
BEGIN:DAYLIGHT
TZOFFSETFROM:-0500
TZOFFSETTO:-0400
TZNAME:EDT
DTSTART:20200308T070000
END:DAYLIGHT
BEGIN:STANDARD
TZOFFSETFROM:-0400
TZOFFSETTO:-0500
TZNAME:EST
DTSTART:20201101T060000
END:STANDARD
END:VTIMEZONE
BEGIN:VEVENT
DTSTART;VALUE=DATE:20201022
DTEND;VALUE=DATE:20201023
DTSTAMP:20210406T183255
CREATED:20201017T002201Z
LAST-MODIFIED:20201017T002201Z
UID:8201-1603324800-1603411199@psequity.org
SUMMARY:Nathaniel Smith Speaking @ Georgia Tech African American Male Initiative
DESCRIPTION:
URL:https://psequity.org/event/nathaniel-smith-speaking-georgia-tech-african-american-male-initiative/
LOCATION:Online Events
CATEGORIES:Nathaniel Smith,Online Events
END:VEVENT
BEGIN:VEVENT
DTSTART;TZID=America/New_York:20201022T180000
DTEND;TZID=America/New_York:20201022T193000
DTSTAMP:20210406T183255
CREATED:20201017T003512Z
LAST-MODIFIED:20201017T003613Z
UID:8203-1603389600-1603395000@psequity.org
SUMMARY:Nathaniel Smith Speaking @ Panel Discussion: the State of Housing
DESCRIPTION:The design of a city can either foster inclusion or exclusion. As we’ve seen through The Color of Law\, government policy has fostered exclusion\, and we still see many impacts of these policies on Atlanta today. Atlanta City Design calls on us to create a city designed for everyone: as we grow as a city\, creating ways that we can accommodate that growth and allow for affordable housing. Hear from Atlanta’s Chief Housing Officer\, Terri Lee\, Department of City Planning Commissioner Tim Keane\, and Partnership for Southern Equity’s Nathaniel Smith on ways to create a better Atlanta. \n
URL:https://psequity.org/event/nathaniel-smith-speaking-panel-discussion-the-state-of-housing/
LOCATION:Online Events
CATEGORIES:Nathaniel Smith,Online Events
ATTACH;FMTTYPE=image/jpeg:https://psequity.org/uploads/2020/10/https-_cdn.evbuc_.com_images_114810983_293730806888_1_original.20201015-174443.jpg
END:VEVENT
END:VCALENDAR