BEGIN:VCALENDAR
VERSION:2.0
PRODID:-//Partnership for Southern Equity - ECPv5.0.2.1//NONSGML v1.0//EN
CALSCALE:GREGORIAN
METHOD:PUBLISH
X-WR-CALNAME:Partnership for Southern Equity
X-ORIGINAL-URL:https://psequity.org
X-WR-CALDESC:Events for Partnership for Southern Equity
BEGIN:VTIMEZONE
TZID:America/New_York
BEGIN:DAYLIGHT
TZOFFSETFROM:-0500
TZOFFSETTO:-0400
TZNAME:EDT
DTSTART:20210314T070000
END:DAYLIGHT
BEGIN:STANDARD
TZOFFSETFROM:-0400
TZOFFSETTO:-0500
TZNAME:EST
DTSTART:20211107T060000
END:STANDARD
END:VTIMEZONE
BEGIN:VEVENT
DTSTART;TZID=America/New_York:20210225T120000
DTEND;TZID=America/New_York:20210225T140000
DTSTAMP:20210406T174159
CREATED:20210225T013634Z
LAST-MODIFIED:20210225T013634Z
UID:8489-1614254400-1614261600@psequity.org
SUMMARY:Nathaniel Smith Speaking @ University of Georgia
DESCRIPTION:Black Professionals Panel w/ UGA Student Orgs \nPanelists:\n● Antonio Brown\, Atlanta City Council – joining in later*\n● Krystle Cobran\, Athens-Clarke County Inclusion Office\n● Nathaniel Smith\, Founder and Chief Equity Office of Partnership for Southern Equity\n● Tangela Beard\, Associate Director of Project Safe \n
URL:https://psequity.org/event/nathaniel-smith-speaking-university-of-georgia/
LOCATION:Online Events
CATEGORIES:Nathaniel Smith,Online Events
END:VEVENT
END:VCALENDAR