BEGIN:VCALENDAR
VERSION:2.0
PRODID:-//Partnership for Southern Equity - ECPv5.0.2.1//NONSGML v1.0//EN
CALSCALE:GREGORIAN
METHOD:PUBLISH
X-WR-CALNAME:Partnership for Southern Equity
X-ORIGINAL-URL:https://psequity.org
X-WR-CALDESC:Events for Partnership for Southern Equity
BEGIN:VTIMEZONE
TZID:America/New_York
BEGIN:DAYLIGHT
TZOFFSETFROM:-0500
TZOFFSETTO:-0400
TZNAME:EDT
DTSTART:20200308T070000
END:DAYLIGHT
BEGIN:STANDARD
TZOFFSETFROM:-0400
TZOFFSETTO:-0500
TZNAME:EST
DTSTART:20201101T060000
END:STANDARD
END:VTIMEZONE
BEGIN:VEVENT
DTSTART;TZID=America/New_York:20200820T180000
DTEND;TZID=America/New_York:20200820T200000
DTSTAMP:20210406T192009
CREATED:20200820T211729Z
LAST-MODIFIED:20200820T211730Z
UID:8036-1597946400-1597953600@psequity.org
SUMMARY:Building Community Wealth Through Small Business Innovation
DESCRIPTION:Zoom with @PSEquityMatters to learn more about considerations for small box discount retail\, cooperatives\, and other healthy food resources.  \n\n\n\n\n\n
URL:https://psequity.org/event/building-community-wealth-through-small-business-innovation/
LOCATION:Online Events
CATEGORIES:Just Growth,Online Events
ATTACH;FMTTYPE=image/png:https://psequity.org/uploads/2020/08/EP-Summer-Equity-Learn-and-Share-4.png
ORGANIZER;CN="Just%20Growth":MAILTO:info@psequity.org
END:VEVENT
END:VCALENDAR