BEGIN:VCALENDAR
VERSION:2.0
PRODID:-//Partnership for Southern Equity - ECPv5.0.2.1//NONSGML v1.0//EN
CALSCALE:GREGORIAN
METHOD:PUBLISH
X-WR-CALNAME:Partnership for Southern Equity
X-ORIGINAL-URL:https://psequity.org
X-WR-CALDESC:Events for Partnership for Southern Equity
BEGIN:VTIMEZONE
TZID:America/New_York
BEGIN:DAYLIGHT
TZOFFSETFROM:-0500
TZOFFSETTO:-0400
TZNAME:EDT
DTSTART:20200308T070000
END:DAYLIGHT
BEGIN:STANDARD
TZOFFSETFROM:-0400
TZOFFSETTO:-0500
TZNAME:EST
DTSTART:20201101T060000
END:STANDARD
END:VTIMEZONE
BEGIN:VEVENT
DTSTART;TZID=America/New_York:20200409T170000
DTEND;TZID=America/New_York:20200409T180000
DTSTAMP:20210406T193340
CREATED:20200204T052356Z
LAST-MODIFIED:20200407T013537Z
UID:7386-1586451600-1586455200@psequity.org
SUMMARY:Nathaniel Smith Speaking @ GA Tech - Business\, Society and Environment
DESCRIPTION:Business\, Environment\, and Society Speaker Series: Nathaniel Smith\, Founder and Chief Equity Officer\, Partnership for Southern Equity (Virtual)\nNathaniel Smith serves as Founder and Chief Equity Officer of the Partnership for Southern Equity (PSE)\, which advances policies and institutional actions that promote racial equity and shared prosperity for all in the growth of metropolitan Atlanta and the American South. Among PSE’s notable accomplishments was the creation the American South’s first equity mapping and framing tool\, the Metro Atlanta Equity Atlas\, and co-authoring numerous reports including: “Growing the Future: The Case for Economic Inclusion in Metropolitan Atlanta”\, and “Employment Equity: Putting Georgia on the Path to Inclusive Prosperity”. PSE also led a coalition of diverse stakeholders to support a $13 million transit referendum that expanded Atlanta’s metropolitan transit system into a new county for the first time in 45 years. \n
URL:https://psequity.org/event/business-society-and-environment/
LOCATION:Georgia Tech Scheller College of Business\, 800 West Peachtree Street\, Atlanta\, GA\, 30308\, United States
CATEGORIES:Just Energy,Nathaniel Smith
ORGANIZER;CN="Partnership%20for%20Southern%20Equity":MAILTO:info@psequity.org
END:VEVENT
END:VCALENDAR