BEGIN:VCALENDAR
VERSION:2.0
PRODID:-//Partnership for Southern Equity - ECPv5.0.2.1//NONSGML v1.0//EN
CALSCALE:GREGORIAN
METHOD:PUBLISH
X-WR-CALNAME:Partnership for Southern Equity
X-ORIGINAL-URL:https://psequity.org
X-WR-CALDESC:Events for Partnership for Southern Equity
BEGIN:VTIMEZONE
TZID:America/New_York
BEGIN:DAYLIGHT
TZOFFSETFROM:-0500
TZOFFSETTO:-0400
TZNAME:EDT
DTSTART:20200308T070000
END:DAYLIGHT
BEGIN:STANDARD
TZOFFSETFROM:-0400
TZOFFSETTO:-0500
TZNAME:EST
DTSTART:20201101T060000
END:STANDARD
END:VTIMEZONE
BEGIN:VEVENT
DTSTART;TZID=America/New_York:20200611T100000
DTEND;TZID=America/New_York:20200611T110000
DTSTAMP:20210406T191231
CREATED:20200611T040928Z
LAST-MODIFIED:20200611T042556Z
UID:7792-1591869600-1591873200@psequity.org
SUMMARY:Nathaniel Smith Speaking @ Metro Atlanta Industry Partnerships (MAIP) Webinar: Quality Workplaces and Careers
DESCRIPTION:\n\nThe Metro Atlanta Industry Partnerships (MAIP)\, a collaboration of Atlanta CareerRise and WorkSource Metro Atlanta\, is hosting the MAIP Bi-Weekly Update Webinar on Thursdays\, from 10:00 AM to 11:00 AM\, through the end of May.\n\n\n\nNathaniel Smith joining a panel on Quality Workplaces and Careers: Bridging the Digital Divide to Create Opportunity for All.\n\n\nClick here to register for the upcoming series of webinars. \n\n\n
URL:https://psequity.org/event/maip-webinar-quality-workplaces-and-careers/
LOCATION:Online Events
CATEGORIES:Nathaniel Smith,Online Events
ORGANIZER;CN="Partnership%20for%20Southern%20Equity":MAILTO:info@psequity.org
END:VEVENT
BEGIN:VEVENT
DTSTART;TZID=America/New_York:20200611T140000
DTEND;TZID=America/New_York:20200611T144500
DTSTAMP:20210406T191231
CREATED:20200611T042434Z
LAST-MODIFIED:20200611T042434Z
UID:7795-1591884000-1591886700@psequity.org
SUMMARY:Nathaniel Smith Speaking @ Living Cities Virtual Convening
DESCRIPTION:
URL:https://psequity.org/event/nathaniel-smith-speaking-living-cities-virtual-convening/
LOCATION:Online Events
CATEGORIES:Nathaniel Smith,Online Events
ORGANIZER;CN="Partnership%20for%20Southern%20Equity":MAILTO:info@psequity.org
END:VEVENT
END:VCALENDAR