BEGIN:VCALENDAR
VERSION:2.0
PRODID:-//Partnership for Southern Equity - ECPv5.0.2.1//NONSGML v1.0//EN
CALSCALE:GREGORIAN
METHOD:PUBLISH
X-WR-CALNAME:Partnership for Southern Equity
X-ORIGINAL-URL:https://psequity.org
X-WR-CALDESC:Events for Partnership for Southern Equity
BEGIN:VTIMEZONE
TZID:America/New_York
BEGIN:DAYLIGHT
TZOFFSETFROM:-0500
TZOFFSETTO:-0400
TZNAME:EDT
DTSTART:20200308T070000
END:DAYLIGHT
BEGIN:STANDARD
TZOFFSETFROM:-0400
TZOFFSETTO:-0500
TZNAME:EST
DTSTART:20201101T060000
END:STANDARD
END:VTIMEZONE
BEGIN:VEVENT
DTSTART;TZID=America/New_York:20200908T083000
DTEND;TZID=America/New_York:20200908T093000
DTSTAMP:20210406T184432
CREATED:20200908T042428Z
LAST-MODIFIED:20200908T142932Z
UID:8089-1599553800-1599557400@psequity.org
SUMMARY:Nathaniel Smith Speaking @ Atlanta Black Chambers
DESCRIPTION:Every Tuesday Morning at 8:30 am. The Atlanta Black Chambers’ weekly conference call provides a great opportunity for members and guests to stay informed and hear directly from the leadership of the Chamber. Our calls also provide an excellent platform for our members to gain exposure. This Tuesday\, September 8\, 2020\, will feature Nathaniel Smith\, founder and chief equity officer of the Partnership for Southern Equity.\n\nDial-In Number 218-895-8208. Passcode 2005#.\n
URL:https://psequity.org/event/nathaniel-smith-speaks-atlanta-black-chambers/
CATEGORIES:Nathaniel Smith
ATTACH;FMTTYPE=image/jpeg:https://psequity.org/uploads/2020/09/TuesTalks.jpg
ORGANIZER;CN="Just%20Opportunity":MAILTO:sjohnson@psequity.org
END:VEVENT
END:VCALENDAR