BEGIN:VCALENDAR
VERSION:2.0
PRODID:-//Partnership for Southern Equity - ECPv5.0.2.1//NONSGML v1.0//EN
CALSCALE:GREGORIAN
METHOD:PUBLISH
X-WR-CALNAME:Partnership for Southern Equity
X-ORIGINAL-URL:https://psequity.org
X-WR-CALDESC:Events for Partnership for Southern Equity
BEGIN:VTIMEZONE
TZID:America/New_York
BEGIN:DAYLIGHT
TZOFFSETFROM:-0500
TZOFFSETTO:-0400
TZNAME:EDT
DTSTART:20210314T070000
END:DAYLIGHT
BEGIN:STANDARD
TZOFFSETFROM:-0400
TZOFFSETTO:-0500
TZNAME:EST
DTSTART:20211107T060000
END:STANDARD
END:VTIMEZONE
BEGIN:VEVENT
DTSTART;TZID=America/New_York:20210223T161500
DTEND;TZID=America/New_York:20210223T180000
DTSTAMP:20210406T174237
CREATED:20210225T014718Z
LAST-MODIFIED:20210225T014917Z
UID:8491-1614096900-1614103200@psequity.org
SUMMARY:Nathaniel Smith Speaking @ Warriors Alliance
DESCRIPTION:
URL:https://psequity.org/event/nathaniel-smith-speaking-warriors-alliance/
LOCATION:Online Events
CATEGORIES:Nathaniel Smith,Online Events
END:VEVENT
END:VCALENDAR