BEGIN:VCALENDAR
VERSION:2.0
PRODID:-//Partnership for Southern Equity - ECPv5.0.2.1//NONSGML v1.0//EN
CALSCALE:GREGORIAN
METHOD:PUBLISH
X-WR-CALNAME:Partnership for Southern Equity
X-ORIGINAL-URL:https://psequity.org
X-WR-CALDESC:Events for Partnership for Southern Equity
BEGIN:VTIMEZONE
TZID:America/New_York
BEGIN:DAYLIGHT
TZOFFSETFROM:-0500
TZOFFSETTO:-0400
TZNAME:EDT
DTSTART:20210314T070000
END:DAYLIGHT
BEGIN:STANDARD
TZOFFSETFROM:-0400
TZOFFSETTO:-0500
TZNAME:EST
DTSTART:20211107T060000
END:STANDARD
END:VTIMEZONE
BEGIN:VEVENT
DTSTART;TZID=America/New_York:20210302T190000
DTEND;TZID=America/New_York:20210302T200000
DTSTAMP:20210406T170346
CREATED:20210225T013335Z
LAST-MODIFIED:20210225T013335Z
UID:8487-1614711600-1614715200@psequity.org
SUMMARY:Nathaniel Smith Speaking @ University of Rochester
DESCRIPTION:You’re invited to join fellow alumni\, parents\, and friends for a thought-provoking discussion with Nathaniel Smith\, founder and chief equity officer of the Partnership for Southern Equity. Presented as part of our “Challenging Racism in Atlanta” sessions\, these special events showcase Atlanta’s leaders and their commitment to combatting racism in the city. \nThe Partnership for Southern Equity (PSE) advances policies and institutional actions that promote racial equity and shared prosperity for all. Focusing on four key areas––energy\, growth\, health\, and opportunity––PSE has developed strong partnerships and successful policy initiatives that help elevate and enable the communities of metropolitan Atlanta and the American South. \nPSE’s notable accomplishments include: \n• Creating the American South’s first equity mapping and framing tool\, the Metro Atlanta Equity Atlas.\n• Co-authoring numerous reports on economic and employment equity.\n• Leading a coalition of diverse stakeholders to support a $13 million transit referendum that expanded Atlanta’s metropolitan transit system into a new county for the first time in 45 years. \n
URL:https://psequity.org/event/nathaniel-smith-speaking-university-of-rochester/
LOCATION:Online Events
CATEGORIES:Nathaniel Smith,Online Events
END:VEVENT
END:VCALENDAR