BEGIN:VCALENDAR
VERSION:2.0
PRODID:-//Partnership for Southern Equity - ECPv5.0.2.1//NONSGML v1.0//EN
CALSCALE:GREGORIAN
METHOD:PUBLISH
X-WR-CALNAME:Partnership for Southern Equity
X-ORIGINAL-URL:https://psequity.org
X-WR-CALDESC:Events for Partnership for Southern Equity
BEGIN:VTIMEZONE
TZID:America/New_York
BEGIN:DAYLIGHT
TZOFFSETFROM:-0500
TZOFFSETTO:-0400
TZNAME:EDT
DTSTART:20210314T070000
END:DAYLIGHT
BEGIN:STANDARD
TZOFFSETFROM:-0400
TZOFFSETTO:-0500
TZNAME:EST
DTSTART:20211107T060000
END:STANDARD
END:VTIMEZONE
BEGIN:VEVENT
DTSTART;TZID=America/New_York:20210310T170000
DTEND;TZID=America/New_York:20210310T180000
DTSTAMP:20210406T170340
CREATED:20210310T203316Z
LAST-MODIFIED:20210310T203834Z
UID:8556-1615395600-1615399200@psequity.org
SUMMARY:Nathaniel Smith Speaking @ Andrew Young Center for Global Leadership
DESCRIPTION:How does structural racism affect infrastructure and housing in #Atlanta? Join Nathaniel Smith\, Cynthia Roseberry\, ACLU\, and Jimiyu Evans\, PCCI – Project Community Connections\, for the next Andrew Young Center for Global Leadership Lecture: “Racial Housing Disparities in Atlanta”\, today\, 5p\, https://andrewyoungcenter.org/events. \n
URL:https://psequity.org/event/nathaniel-smith-speaking-andrew-young-center-for-global-leadership/
LOCATION:Online Events
CATEGORIES:Nathaniel Smith,Online Events
ATTACH;FMTTYPE=image/jpeg:https://psequity.org/uploads/2021/03/AYC-NSM-031021.jpg
END:VEVENT
END:VCALENDAR