BEGIN:VCALENDAR
VERSION:2.0
PRODID:-//Partnership for Southern Equity - ECPv5.0.2.1//NONSGML v1.0//EN
CALSCALE:GREGORIAN
METHOD:PUBLISH
X-WR-CALNAME:Partnership for Southern Equity
X-ORIGINAL-URL:https://psequity.org
X-WR-CALDESC:Events for Partnership for Southern Equity
BEGIN:VTIMEZONE
TZID:America/New_York
BEGIN:DAYLIGHT
TZOFFSETFROM:-0500
TZOFFSETTO:-0400
TZNAME:EDT
DTSTART:20200308T070000
END:DAYLIGHT
BEGIN:STANDARD
TZOFFSETFROM:-0400
TZOFFSETTO:-0500
TZNAME:EST
DTSTART:20201101T060000
END:STANDARD
END:VTIMEZONE
BEGIN:VEVENT
DTSTART;TZID=America/New_York:20200501T073000
DTEND;TZID=America/New_York:20200501T090000
DTSTAMP:20210406T192821
CREATED:20200421T004630Z
LAST-MODIFIED:20200428T231908Z
UID:7611-1588318200-1588323600@psequity.org
SUMMARY:Nathaniel Smith Speaking @ Southface's "Development Without Displacement"
DESCRIPTION:Thriving communities are often fabrics composed of various heritage communities\, evolving development and the infrastructure to support them. Development pressure in Atlanta is threatening these heritage communities\, affordable housing and the cultural character within them. Join Southface on May 1 to hear from some of Atlanta’s top commentators on ways to implement healthy development without dislocating the vibrant communities already there. \n
URL:https://psequity.org/event/nathaniel-smith-speaking-southfaces-development-without-displacement/
LOCATION:Online Events
CATEGORIES:Just Energy,Just Growth,Nathaniel Smith,Online Events
ATTACH;FMTTYPE=image/jpeg:https://psequity.org/uploads/2020/04/20f4e6ad-6c26-477c-895b-d320661a9362.jpg
END:VEVENT
END:VCALENDAR