BEGIN:VCALENDAR
VERSION:2.0
PRODID:-//Partnership for Southern Equity - ECPv5.0.2.1//NONSGML v1.0//EN
CALSCALE:GREGORIAN
METHOD:PUBLISH
X-WR-CALNAME:Partnership for Southern Equity
X-ORIGINAL-URL:https://psequity.org
X-WR-CALDESC:Events for Partnership for Southern Equity
BEGIN:VTIMEZONE
TZID:America/New_York
BEGIN:DAYLIGHT
TZOFFSETFROM:-0500
TZOFFSETTO:-0400
TZNAME:EDT
DTSTART:20200308T070000
END:DAYLIGHT
BEGIN:STANDARD
TZOFFSETFROM:-0400
TZOFFSETTO:-0500
TZNAME:EST
DTSTART:20201101T060000
END:STANDARD
END:VTIMEZONE
BEGIN:VEVENT
DTSTART;TZID=America/New_York:20200720T113000
DTEND;TZID=America/New_York:20200720T130000
DTSTAMP:20210406T190640
CREATED:20200720T170841Z
LAST-MODIFIED:20200720T225907Z
UID:7909-1595244600-1595250000@psequity.org
SUMMARY:Nathaniel Smith Speaking @ Racial Equity Discussion (Georgia Tech)
DESCRIPTION:Ray C. Anderson Center for Sustainable Business at Georgia Tech in Atlanta\, GA asked Nathaniel Smith (Partnership for Southern Equity)\, Shelby Buso (City of Atlanta)\, Stephanie Armistead (Chick-fil-A)\, and Stephanie Valdez Streaty (Cox) to have a conversation about the challenges of systemic racism. They put together this virtual gathering in response to events over the past few months and based on a recommendation from one of our advisory board members. \, but then we want to keep it conversational and have others share and discuss as well. Questions we’ll explore include: How is your company\, agency\, or organization leaning into the hard conversations? What do you see companies doing that you find valuable? What resources are you tapping into to support your work in your company\, agency\, or organization? \n
URL:https://psequity.org/event/nathaniel-smith-speaking-racial-equity-discussion-georgia-tech/
LOCATION:Online Events
CATEGORIES:Nathaniel Smith,Online Events
ATTACH;FMTTYPE=image/png:https://psequity.org/uploads/2020/07/Picture1.png
END:VEVENT
BEGIN:VEVENT
DTSTART;TZID=America/New_York:20200720T190000
DTEND;TZID=America/New_York:20200720T200000
DTSTAMP:20210406T190640
CREATED:20200720T232455Z
LAST-MODIFIED:20200720T232455Z
UID:7915-1595271600-1595275200@psequity.org
SUMMARY:Nathaniel Smith Speaking @ Douglas County Chamber of Commerce
DESCRIPTION:Join us this Monday evening for a Conversation on Race Relations: Moving Allies to Advocates with Nathaniel Smith\, founder and CEO of Partnership for Southern Equity. We will discuss practical ways we can work in our own neighborhoods and communities to impact change and improve race relations. Learn what steps you can take to become an advocate for equity and social justice. \n \n
URL:https://psequity.org/event/nathaniel-smith-speaking-douglas-county-chamber-of-commerce/
LOCATION:Online Events
CATEGORIES:Nathaniel Smith,Online Events,Special Event
ATTACH;FMTTYPE=image/png:https://psequity.org/uploads/2020/07/DEIeventJuly2020.png
END:VEVENT
END:VCALENDAR