BEGIN:VCALENDAR
VERSION:2.0
PRODID:-//Partnership for Southern Equity - ECPv5.0.2.1//NONSGML v1.0//EN
CALSCALE:GREGORIAN
METHOD:PUBLISH
X-WR-CALNAME:Partnership for Southern Equity
X-ORIGINAL-URL:https://psequity.org
X-WR-CALDESC:Events for Partnership for Southern Equity
BEGIN:VTIMEZONE
TZID:America/New_York
BEGIN:DAYLIGHT
TZOFFSETFROM:-0500
TZOFFSETTO:-0400
TZNAME:EDT
DTSTART:20200308T070000
END:DAYLIGHT
BEGIN:STANDARD
TZOFFSETFROM:-0400
TZOFFSETTO:-0500
TZNAME:EST
DTSTART:20201101T060000
END:STANDARD
END:VTIMEZONE
BEGIN:VEVENT
DTSTART;TZID=America/New_York:20200721T150000
DTEND;TZID=America/New_York:20200721T180000
DTSTAMP:20210406T190653
CREATED:20200618T070734Z
LAST-MODIFIED:20200618T070734Z
UID:7939-1595343600-1595354400@psequity.org
SUMMARY:Organize for Opportunity
DESCRIPTION:Organizing for Opportunity (OFO) is the Partnership for Southern Equity’s community organizing training for its growing list of partners\, staff\, organizers\, and members of the community who desire to learn successful organizing strategies. OFO Mini-Session 1: Concepts\, Terms and Framing is on Wednesday\, June 24. OFO Mini-Session 2: Implementation and Leadership Development. Both sessions are from 10:30 a.m. to 12:30 p.m. There’s more value in attending the sessions together. We will also hold an OFO Office Hour on Tuesday\, June 30 at 10 a.m. for grassroots organizations and organizers already in the field. \nThe COVID-19 pandemic has pivoted the way we organize. Welcome to the world of digital organizing! No matter where you are or experience level\, Beth Becker with Becker Digital Strategies will guide you through the strategies and tools to move communities to action albeit virtually. \nThese trainings are free and we will graciously accept donations to help support this work. Space is limited so register via the links above today! \n
URL:https://psequity.org/event/organize-for-opportunity/2020-07-21/
LOCATION:Online Events
CATEGORIES:Online Events,Special Event
ATTACH;FMTTYPE=image/png:https://psequity.org/uploads/2020/07/Digital-Organizing-Training-2020.png
ORGANIZER;CN="Partnership%20for%20Southern%20Equity":MAILTO:info@psequity.org
END:VEVENT
BEGIN:VEVENT
DTSTART;TZID=America/New_York:20200721T150000
DTEND;TZID=America/New_York:20200721T180000
DTSTAMP:20210406T190653
CREATED:20200720T235219Z
LAST-MODIFIED:20200722T205601Z
UID:7918-1595343600-1595354400@psequity.org
SUMMARY:Organize for Opportunity: Digital Organizing
DESCRIPTION:The COVID-19 pandemic has pivoted the way we organize. Welcome to the world of digital organizing! No matter where you are or experience level\, Beth Becker with Becker Digital Strategies will guide you through the strategies and tools to move communities to action albeit virtually. \n\nhttps://psequity.org/uploads/2020/07/Digital-Organizing-2020.mp4\n
URL:https://psequity.org/event/organizing-for-opportunity-digital-organizing/
LOCATION:Online Events
CATEGORIES:Just Energy,Just Growth,Just Health,Just Opportunity,Online Events,Special Event
ATTACH;FMTTYPE=image/png:https://psequity.org/uploads/2020/07/Digital-Organizing-Training-2020.png
ORGANIZER;CN="Partnership%20for%20Southern%20Equity":MAILTO:info@psequity.org
END:VEVENT
END:VCALENDAR