BEGIN:VCALENDAR
VERSION:2.0
PRODID:-//Partnership for Southern Equity - ECPv5.0.2.1//NONSGML v1.0//EN
CALSCALE:GREGORIAN
METHOD:PUBLISH
X-WR-CALNAME:Partnership for Southern Equity
X-ORIGINAL-URL:https://psequity.org
X-WR-CALDESC:Events for Partnership for Southern Equity
BEGIN:VTIMEZONE
TZID:America/New_York
BEGIN:DAYLIGHT
TZOFFSETFROM:-0500
TZOFFSETTO:-0400
TZNAME:EDT
DTSTART:20210314T070000
END:DAYLIGHT
BEGIN:STANDARD
TZOFFSETFROM:-0400
TZOFFSETTO:-0500
TZNAME:EST
DTSTART:20211107T060000
END:STANDARD
END:VTIMEZONE
BEGIN:VEVENT
DTSTART;TZID=America/New_York:20210311T150000
DTEND;TZID=America/New_York:20210311T160000
DTSTAMP:20210406T172803
CREATED:20210311T195211Z
LAST-MODIFIED:20210311T195211Z
UID:8563-1615474800-1615478400@psequity.org
SUMMARY:Nathaniel Smith Speaking @ Funders Together to End Homelessness
DESCRIPTION:Panel with Amanda Andere\, ED of Funders Together to End Homelessness https://www.funderstogether.org/amanda_andere\, and Katrina Mitchell (United Way). \nIt is our hope that you would focus on tangible ways funders can begin to address racial disparities in homelessness\, increase their understanding of what equity IS\, and how to potentially add an equity lens to their giving strategies and processes.  We will also have a person with lived experience share her story and how systemic and structural racism has created barriers and hurdles during her journey to becoming stably housed. \n  \n
URL:https://psequity.org/event/nathaniel-smith-speaking-funders-together-to-end-homelessness/
CATEGORIES:Nathaniel Smith,Online Events
END:VEVENT
END:VCALENDAR