BEGIN:VCALENDAR
VERSION:2.0
PRODID:-//Partnership for Southern Equity - ECPv5.0.2.1//NONSGML v1.0//EN
CALSCALE:GREGORIAN
METHOD:PUBLISH
X-WR-CALNAME:Partnership for Southern Equity
X-ORIGINAL-URL:https://psequity.org
X-WR-CALDESC:Events for Partnership for Southern Equity
BEGIN:VTIMEZONE
TZID:America/New_York
BEGIN:DAYLIGHT
TZOFFSETFROM:-0500
TZOFFSETTO:-0400
TZNAME:EDT
DTSTART:20200308T070000
END:DAYLIGHT
BEGIN:STANDARD
TZOFFSETFROM:-0400
TZOFFSETTO:-0500
TZNAME:EST
DTSTART:20201101T060000
END:STANDARD
END:VTIMEZONE
BEGIN:VEVENT
DTSTART;TZID=America/New_York:20200520T120000
DTEND;TZID=America/New_York:20200520T140000
DTSTAMP:20210406T193432
CREATED:20200515T181713Z
LAST-MODIFIED:20200519T002230Z
UID:7673-1589976000-1589983200@psequity.org
SUMMARY:[UPDATE] "The South Has Something to Say": Continuing the Conversation about COVID-19 and our Chance for Transformation in the South
DESCRIPTION:After the publication of their recent in op-ed in Nonprofit Quarterly\, Nathaniel Smith of the Partnership for Southern Equity\, Tamieka Mosely of Grantmakers for Southern Progress and a few of their colleagues will continue the conversation about COVID-19 and the chance to transform the South in a webinar on Wednesday\, May 20\, 2020\, from 12 p.m. to 2 p.m. Stay for an eye-opening and inspiring conversation and leave with steps you can take to help us transform the American South and the nation. \nModerator: \n\nTamieka Mosely\, Grantmakers for Southern Progress\n\nPanelists: \n\nNathaniel Smith\, Partnership for Southern Equity\n[NEW PANELIST] Elena Conley\, Mary Reynolds Babcock Foundation\nHelen Chin\, Surdna Foundation\nTyler Nickerson\, Amalgamated Bank\nMijo Vodopic\, MacArthur Foundation\nTene Traylor\, Kendeda Fund\nLisa Medellin\, Healthcare Georgia Foundation\nMayor Deana Holiday Ingraham\, City of East Point\n\n
URL:https://psequity.org/event/the-south-has-something-to-say-continuing-the-conversation-about-covid-19-and-our-chance-for-transformation-in-the-south/
LOCATION:Online Events
CATEGORIES:Nathaniel Smith,Online Events,Special Event
ATTACH;FMTTYPE=image/png:https://psequity.org/uploads/2020/05/South-has-something-to-say-webinar-052020-FINAL2.png
ORGANIZER;CN="Partnership%20for%20Southern%20Equity":MAILTO:info@psequity.org
END:VEVENT
END:VCALENDAR